BEGIN:VCALENDAR
PRODID:-//AT Content Types//AT Event//EN
VERSION:1.0
BEGIN:VEVENT
DTSTART:20230401T123000Z
DTEND:20230409T183000Z
DCREATED:20210319T172857Z
UID:ATEvent-3b8807dd098542fa8698ce6d149a3cc9
SEQUENCE:0
LAST-MODIFIED:20230323T132707Z
SUMMARY:Semaine sainte 2023
LOCATION:cathédrale et Saint Jacques
PRIORITY:3
TRANSP:0
END:VEVENT
END:VCALENDAR
