BEGIN:VCALENDAR
PRODID:-//AT Content Types//AT Event//EN
VERSION:1.0
BEGIN:VEVENT
DTSTART:20240510T183000Z
DTEND:20240510T203000Z
DCREATED:20240503T073848Z
UID:ATEvent-92e91ca3a47d475aa6428a58bc1ab306
SEQUENCE:0
LAST-MODIFIED:20240503T075057Z
SUMMARY:Concert Roberto Alagna
DESCRIPTION:Récital de chants sacrés.
LOCATION:Cathédrale de Reims
PRIORITY:3
TRANSP:0
END:VEVENT
END:VCALENDAR
